BEGIN:VCALENDAR
VERSION:2.0
PRODID:-//bairnsdalelions.org.au - ECPv6.15.20//NONSGML v1.0//EN
CALSCALE:GREGORIAN
METHOD:PUBLISH
X-WR-CALNAME:bairnsdalelions.org.au
X-ORIGINAL-URL:https://bairnsdalelions.org.au
X-WR-CALDESC:Events for bairnsdalelions.org.au
REFRESH-INTERVAL;VALUE=DURATION:PT1H
X-Robots-Tag:noindex
X-PUBLISHED-TTL:PT1H
BEGIN:VTIMEZONE
TZID:Australia/Melbourne
BEGIN:STANDARD
TZOFFSETFROM:+1100
TZOFFSETTO:+1000
TZNAME:AEST
DTSTART:20220402T160000
END:STANDARD
BEGIN:DAYLIGHT
TZOFFSETFROM:+1000
TZOFFSETTO:+1100
TZNAME:AEDT
DTSTART:20221001T160000
END:DAYLIGHT
BEGIN:STANDARD
TZOFFSETFROM:+1100
TZOFFSETTO:+1000
TZNAME:AEST
DTSTART:20230401T160000
END:STANDARD
BEGIN:DAYLIGHT
TZOFFSETFROM:+1000
TZOFFSETTO:+1100
TZNAME:AEDT
DTSTART:20230930T160000
END:DAYLIGHT
BEGIN:STANDARD
TZOFFSETFROM:+1100
TZOFFSETTO:+1000
TZNAME:AEST
DTSTART:20240406T160000
END:STANDARD
BEGIN:DAYLIGHT
TZOFFSETFROM:+1000
TZOFFSETTO:+1100
TZNAME:AEDT
DTSTART:20241005T160000
END:DAYLIGHT
END:VTIMEZONE
BEGIN:VEVENT
DTSTART;TZID=Australia/Melbourne:20231210T170000
DTEND;TZID=Australia/Melbourne:20231225T210000
DTSTAMP:20260422T003437
CREATED:20231201T041337Z
LAST-MODIFIED:20231201T041337Z
UID:386-1702227600-1703538000@bairnsdalelions.org.au
SUMMARY:CHRISTMAS LIGHTS & DISPLAYS
DESCRIPTION:Family Entertainment Sharing Christmas Lights & Displays as Free Fun For All \nA huge display of Christmas Lights and blow up figures for the family to enjoy for free. Park the car and walk around the yard enjoying the lights and displays which will amaze the young and the old because of the sheer beauty. A gold coin donation would be appreciated and every cent goes to Riding for the Disabled. If you liked the display last year or the Halloween display this year\, you will be shocked at how it is EVEN BETTER IN 2023. Open 5pm – 9pm Sundays to Thursdays and 5pm until late on Fridays & Saturdays. Heavy winds and rain will mean it can’t open safely so watch the weather. \nCLICK HERE FOR THE DETAILS  Bairnsdale Lions Club Christmas 2023
URL:https://bairnsdalelions.org.au/event/christmas-lights-displays/
LOCATION:LIGHTS AND DISPLAY EVENTS VENUE\, 390 Paynesville Road\, Bairnsdale\, Victoria\, 3875\, Australia
END:VEVENT
BEGIN:VEVENT
DTSTART;TZID=Australia/Melbourne:20231031T150000
DTEND;TZID=Australia/Melbourne:20231031T220000
DTSTAMP:20260422T003437
CREATED:20231016T193152Z
LAST-MODIFIED:20231017T195355Z
UID:372-1698764400-1698789600@bairnsdalelions.org.au
SUMMARY:Halloween - Gold Coin Donation
DESCRIPTION:After a spectacular display of Christmas lights and kids activities in 2022 Bairnsdale Lions Club is happy to see a 2023 Halloween celebration created by a Lions member and his family. \nOn the night of October 31st 2023 the family will be dressed in Halloween costumes and displays will be throughout their front yard for the public to enjoy. \nThe event is free but a gold coin donation would be appreciated and all funds will be donated to Lions Hearing Dogs Australia. \nMonsters in the Garden \nPumpkins on Patrol
URL:https://bairnsdalelions.org.au/event/halloween-gold-coin-donation/
LOCATION:LIGHTS AND DISPLAY EVENTS VENUE\, 390 Paynesville Road\, Bairnsdale\, Victoria\, 3875\, Australia
END:VEVENT
BEGIN:VEVENT
DTSTART;TZID=Australia/Melbourne:20231022T073000
DTEND;TZID=Australia/Melbourne:20231022T123000
DTSTAMP:20260422T003437
CREATED:20231016T194716Z
LAST-MODIFIED:20231016T195807Z
UID:376-1697959800-1697977800@bairnsdalelions.org.au
SUMMARY:Howitt Park Market
DESCRIPTION:Lions have been making their well known Christmas Cakes all year round even though they are still called Christmas Cakes. \nBairnsdale Lions will have a stall at the Howitt Park Market this Sunday so you have the opportunity to buy one of the well known Lions cakes to save for Christmas or enjoy right now! \nAs an optional extra you could also enjoy one of the Lions sausage sizzle delicacies. \nLocally made sausages cooked on the barbeque by Lions. \n1.5 kg and mini cakes available.
URL:https://bairnsdalelions.org.au/event/howitt-park-market/
LOCATION:HOWITT PARK\, Main Street\, East Bairnsdale\, Victoria\, 3875\, Australia
END:VEVENT
BEGIN:VEVENT
DTSTART;TZID=Australia/Melbourne:20231019T183000
DTEND;TZID=Australia/Melbourne:20231019T213000
DTSTAMP:20260422T003437
CREATED:20231016T191531Z
LAST-MODIFIED:20231016T191531Z
UID:332-1697740200-1697751000@bairnsdalelions.org.au
SUMMARY:Dinner Meeting
DESCRIPTION:Dinner Meeting \nMembers meet to discuss upcoming events\, fundraising opportunities\, enjoy a meal and socialise.
URL:https://bairnsdalelions.org.au/event/dinner-meeting-3/
LOCATION:Bairnsdale Bowls Club\, 54 Grant Street\, Bairnsdale\, Vic\, 3875\, Australia
END:VEVENT
BEGIN:VEVENT
DTSTART;TZID=Australia/Melbourne:20230803T183000
DTEND;TZID=Australia/Melbourne:20230803T213000
DTSTAMP:20260422T003437
CREATED:20230729T072733Z
LAST-MODIFIED:20230729T072733Z
UID:317-1691087400-1691098200@bairnsdalelions.org.au
SUMMARY:Dinner Meeting
DESCRIPTION:Regular Dinner Meeting
URL:https://bairnsdalelions.org.au/event/dinner-meeting-first-for-auguast/
LOCATION:Bairnsdale Bowls Club\, 54 Grant Street\, Bairnsdale\, Vic\, 3875\, Australia
END:VEVENT
END:VCALENDAR