BEGIN:VCALENDAR
VERSION:2.0
PRODID:-//bairnsdalelions.org.au - ECPv6.15.20//NONSGML v1.0//EN
CALSCALE:GREGORIAN
METHOD:PUBLISH
X-WR-CALNAME:bairnsdalelions.org.au
X-ORIGINAL-URL:https://bairnsdalelions.org.au
X-WR-CALDESC:Events for bairnsdalelions.org.au
REFRESH-INTERVAL;VALUE=DURATION:PT1H
X-Robots-Tag:noindex
X-PUBLISHED-TTL:PT1H
BEGIN:VTIMEZONE
TZID:Australia/Melbourne
BEGIN:STANDARD
TZOFFSETFROM:+1100
TZOFFSETTO:+1000
TZNAME:AEST
DTSTART:20220402T160000
END:STANDARD
BEGIN:DAYLIGHT
TZOFFSETFROM:+1000
TZOFFSETTO:+1100
TZNAME:AEDT
DTSTART:20221001T160000
END:DAYLIGHT
BEGIN:STANDARD
TZOFFSETFROM:+1100
TZOFFSETTO:+1000
TZNAME:AEST
DTSTART:20230401T160000
END:STANDARD
BEGIN:DAYLIGHT
TZOFFSETFROM:+1000
TZOFFSETTO:+1100
TZNAME:AEDT
DTSTART:20230930T160000
END:DAYLIGHT
BEGIN:STANDARD
TZOFFSETFROM:+1100
TZOFFSETTO:+1000
TZNAME:AEST
DTSTART:20240406T160000
END:STANDARD
BEGIN:DAYLIGHT
TZOFFSETFROM:+1000
TZOFFSETTO:+1100
TZNAME:AEDT
DTSTART:20241005T160000
END:DAYLIGHT
BEGIN:STANDARD
TZOFFSETFROM:+1100
TZOFFSETTO:+1000
TZNAME:AEST
DTSTART:20250405T160000
END:STANDARD
BEGIN:DAYLIGHT
TZOFFSETFROM:+1000
TZOFFSETTO:+1100
TZNAME:AEDT
DTSTART:20251004T160000
END:DAYLIGHT
END:VTIMEZONE
BEGIN:VEVENT
DTSTART;TZID=Australia/Melbourne:20231210T170000
DTEND;TZID=Australia/Melbourne:20231225T210000
DTSTAMP:20260424T044351
CREATED:20231201T041337Z
LAST-MODIFIED:20231201T041337Z
UID:386-1702227600-1703538000@bairnsdalelions.org.au
SUMMARY:CHRISTMAS LIGHTS & DISPLAYS
DESCRIPTION:Family Entertainment Sharing Christmas Lights & Displays as Free Fun For All \nA huge display of Christmas Lights and blow up figures for the family to enjoy for free. Park the car and walk around the yard enjoying the lights and displays which will amaze the young and the old because of the sheer beauty. A gold coin donation would be appreciated and every cent goes to Riding for the Disabled. If you liked the display last year or the Halloween display this year\, you will be shocked at how it is EVEN BETTER IN 2023. Open 5pm – 9pm Sundays to Thursdays and 5pm until late on Fridays & Saturdays. Heavy winds and rain will mean it can’t open safely so watch the weather. \nCLICK HERE FOR THE DETAILS  Bairnsdale Lions Club Christmas 2023
URL:https://bairnsdalelions.org.au/event/christmas-lights-displays/
LOCATION:LIGHTS AND DISPLAY EVENTS VENUE\, 390 Paynesville Road\, Bairnsdale\, Victoria\, 3875\, Australia
END:VEVENT
BEGIN:VEVENT
DTSTART;TZID=Australia/Melbourne:20241005T183000
DTEND;TZID=Australia/Melbourne:20241005T223000
DTSTAMP:20260424T044351
CREATED:20240904T213801Z
LAST-MODIFIED:20240904T214336Z
UID:849-1728153000-1728167400@bairnsdalelions.org.au
SUMMARY:Tickled Pink OP SHOP DANCE with THE UNCLES
DESCRIPTION:Grab yourself a fancy PINK outfit\, or a decorative clothing addition\, from any local opportunity shop and make yourself ready to dance with The Uncles at the Bairnsdale RSL from 6.30pm on Saturday October 5th. \nBuying anything from an op shop means you are helping some disadvantaged people in the area. \nAll proceeds from the ticket sales for the Tickled Pink event will be donated by the Bairnsdale Lions Club to the Jane McGrath foundation. \nContact one of the Lions members on 0436 956 796 if you want to buy one or many of the tickets for $20 each
URL:https://bairnsdalelions.org.au/event/tickled-pink-op-shop-dance-with-the-uncles/
LOCATION:RSL Bairnsdale\, 2 Forge Creek Road\, Bairnsdale\, Victoria\, 3875\, Australia
ATTACH;FMTTYPE=application/pdf:https://bairnsdalelions.org.au/wp-content/uploads/2024/09/tickled-pink-ball-POSTER-1.pdf
END:VEVENT
BEGIN:VEVENT
DTSTART;TZID=Australia/Melbourne:20241017T190000
DTEND;TZID=Australia/Melbourne:20241017T210000
DTSTAMP:20260424T044351
CREATED:20241008T193207Z
LAST-MODIFIED:20241008T193207Z
UID:869-1729191600-1729198800@bairnsdalelions.org.au
SUMMARY:Dinner Meeting with Guest Speaker
DESCRIPTION:Partners and prospective members welcome to attend a dinner meeting at the Bairnsdale Bowls Club to hear the latest updates from federal member of the House of Representatives Darren Chester.
URL:https://bairnsdalelions.org.au/event/dinner-meeting-with-guest-speaker/
LOCATION:Bairnsdale Bowls Club\, 54 Grant Street\, Bairnsdale\, Vic\, 3875\, Australia
END:VEVENT
END:VCALENDAR